BEGIN:VCALENDAR
VERSION:2.0
PRODID:-//AfD Fraktionen Altenkirchen - ECPv6.5.1.5//NONSGML v1.0//EN
CALSCALE:GREGORIAN
METHOD:PUBLISH
X-WR-CALNAME:AfD Fraktionen Altenkirchen
X-ORIGINAL-URL:https://afd-fraktionen-ak.de
X-WR-CALDESC:Veranstaltungen für AfD Fraktionen Altenkirchen
REFRESH-INTERVAL;VALUE=DURATION:PT1H
X-Robots-Tag:noindex
X-PUBLISHED-TTL:PT1H
BEGIN:VTIMEZONE
TZID:Europe/Berlin
BEGIN:DAYLIGHT
TZOFFSETFROM:+0100
TZOFFSETTO:+0200
TZNAME:CEST
DTSTART:20260329T010000
END:DAYLIGHT
BEGIN:STANDARD
TZOFFSETFROM:+0200
TZOFFSETTO:+0100
TZNAME:CET
DTSTART:20261025T010000
END:STANDARD
END:VTIMEZONE
BEGIN:VEVENT
DTSTART;TZID=Europe/Berlin:20260503T100000
DTEND;TZID=Europe/Berlin:20260503T170000
DTSTAMP:20260424T113446
CREATED:20260414T151730Z
LAST-MODIFIED:20260414T151730Z
UID:1723-1777802400-1777827600@afd-fraktionen-ak.de
SUMMARY:Tag der offenen Tür in Altenkirchen
DESCRIPTION:nähere Infos folgen …
URL:https://afd-fraktionen-ak.de/event/tag-der-offenen-tuer-in-altenkirchen/
LOCATION:Wahlbüro Altenkirchen\, Wilhelmstr. 53\, Altenkirchen\, Rheinland-Pfalz\, 57610\, Germany
END:VEVENT
BEGIN:VEVENT
DTSTART;TZID=Europe/Berlin:20260509T100000
DTEND;TZID=Europe/Berlin:20260509T140000
DTSTAMP:20260424T113446
CREATED:20260414T151805Z
LAST-MODIFIED:20260414T151805Z
UID:1725-1778320800-1778335200@afd-fraktionen-ak.de
SUMMARY:Infostand in Hamm
DESCRIPTION:nähere Infos folgen …
URL:https://afd-fraktionen-ak.de/event/infostand-in-hamm/
END:VEVENT
BEGIN:VEVENT
DTSTART;TZID=Europe/Berlin:20260510T100000
DTEND;TZID=Europe/Berlin:20260510T140000
DTSTAMP:20260424T113446
CREATED:20260126T130303Z
LAST-MODIFIED:20260414T151609Z
UID:1519-1778407200-1778421600@afd-fraktionen-ak.de
SUMMARY:Frühschoppen
DESCRIPTION:nähere Infos folgen …
URL:https://afd-fraktionen-ak.de/event/fruehschoppen-3/
LOCATION:Westerwälder Hof\, Liebergstr. 4\, Gebhardshain\, Rheinland-Pfalz\, 57580\, Germany
END:VEVENT
BEGIN:VEVENT
DTSTART;TZID=Europe/Berlin:20260606T100000
DTEND;TZID=Europe/Berlin:20260606T140000
DTSTAMP:20260424T113446
CREATED:20260414T151844Z
LAST-MODIFIED:20260414T151844Z
UID:1727-1780740000-1780754400@afd-fraktionen-ak.de
SUMMARY:Infostand Daaden
DESCRIPTION:nähere Infos folgen …
URL:https://afd-fraktionen-ak.de/event/infostand-daaden-2/
END:VEVENT
BEGIN:VEVENT
DTSTART;TZID=Europe/Berlin:20260606T170000
DTEND;TZID=Europe/Berlin:20260606T230000
DTSTAMP:20260424T113446
CREATED:20260126T123813Z
LAST-MODIFIED:20260126T123813Z
UID:1496-1780765200-1780786800@afd-fraktionen-ak.de
SUMMARY:Bürgerdialog Mehren
DESCRIPTION:nähere Infos folgen …
URL:https://afd-fraktionen-ak.de/event/buergerdialog-mehren-3/
LOCATION:Landhaus Mehren\, Auf dem Brouch 1\, Mehren\, Rheinland-Pfalz\, 57635\, Deutschland
END:VEVENT
BEGIN:VEVENT
DTSTART;TZID=Europe/Berlin:20260711T100000
DTEND;TZID=Europe/Berlin:20260711T140000
DTSTAMP:20260424T113446
CREATED:20260414T151912Z
LAST-MODIFIED:20260414T151912Z
UID:1729-1783764000-1783778400@afd-fraktionen-ak.de
SUMMARY:Infostand Herdorf
DESCRIPTION:nähere Infos folgen …
URL:https://afd-fraktionen-ak.de/event/infostand-herdorf-2/
END:VEVENT
BEGIN:VEVENT
DTSTART;TZID=Europe/Berlin:20260711T170000
DTEND;TZID=Europe/Berlin:20260711T233000
DTSTAMP:20260424T113446
CREATED:20260126T125059Z
LAST-MODIFIED:20260126T125059Z
UID:1506-1783789200-1783812600@afd-fraktionen-ak.de
SUMMARY:Sommerfest
DESCRIPTION:nähere Infos folgen …
URL:https://afd-fraktionen-ak.de/event/sommerfest/
END:VEVENT
BEGIN:VEVENT
DTSTART;TZID=Europe/Berlin:20260801T100000
DTEND;TZID=Europe/Berlin:20260801T140000
DTSTAMP:20260424T113446
CREATED:20260414T151945Z
LAST-MODIFIED:20260414T151945Z
UID:1731-1785578400-1785592800@afd-fraktionen-ak.de
SUMMARY:Infostand Altenkirchen
DESCRIPTION:nähere Infos folgen …
URL:https://afd-fraktionen-ak.de/event/infostand-altenkirchen-3/
END:VEVENT
BEGIN:VEVENT
DTSTART;TZID=Europe/Berlin:20260801T170000
DTEND;TZID=Europe/Berlin:20260801T230000
DTSTAMP:20260424T113446
CREATED:20260126T123840Z
LAST-MODIFIED:20260126T123840Z
UID:1498-1785603600-1785625200@afd-fraktionen-ak.de
SUMMARY:Bürgerdialog Mehren
DESCRIPTION:nähere Infos folgen …
URL:https://afd-fraktionen-ak.de/event/buergerdialog-mehren-4/
LOCATION:Landhaus Mehren\, Auf dem Brouch 1\, Mehren\, Rheinland-Pfalz\, 57635\, Deutschland
END:VEVENT
BEGIN:VEVENT
DTSTART;TZID=Europe/Berlin:20260912T100000
DTEND;TZID=Europe/Berlin:20260912T140000
DTSTAMP:20260424T113446
CREATED:20260414T152017Z
LAST-MODIFIED:20260414T152017Z
UID:1733-1789207200-1789221600@afd-fraktionen-ak.de
SUMMARY:Infostand Kirchen
DESCRIPTION:nähere Infos folgen …
URL:https://afd-fraktionen-ak.de/event/infostand-kirchen-2/
END:VEVENT
BEGIN:VEVENT
DTSTART;TZID=Europe/Berlin:20260913T100000
DTEND;TZID=Europe/Berlin:20260913T140000
DTSTAMP:20260424T113446
CREATED:20260126T130418Z
LAST-MODIFIED:20260414T151450Z
UID:1523-1789293600-1789308000@afd-fraktionen-ak.de
SUMMARY:Frühschoppen
DESCRIPTION:nähere Infos folgen …
URL:https://afd-fraktionen-ak.de/event/fruehschoppen-5/
LOCATION:Westerwälder Hof\, Liebergstr. 4\, Gebhardshain\, Rheinland-Pfalz\, 57580\, Germany
END:VEVENT
BEGIN:VEVENT
DTSTART;TZID=Europe/Berlin:20261003T100000
DTEND;TZID=Europe/Berlin:20261003T140000
DTSTAMP:20260424T113446
CREATED:20260414T152047Z
LAST-MODIFIED:20260414T152047Z
UID:1735-1791021600-1791036000@afd-fraktionen-ak.de
SUMMARY:Infostand Wissen
DESCRIPTION:nähere Infos folgen …
URL:https://afd-fraktionen-ak.de/event/infostand-wissen-3/
END:VEVENT
BEGIN:VEVENT
DTSTART;TZID=Europe/Berlin:20261003T170000
DTEND;TZID=Europe/Berlin:20261003T230000
DTSTAMP:20260424T113446
CREATED:20260126T124102Z
LAST-MODIFIED:20260126T124102Z
UID:1500-1791046800-1791068400@afd-fraktionen-ak.de
SUMMARY:Bürgerdialog Mehren
DESCRIPTION:nähere Infos folgen …
URL:https://afd-fraktionen-ak.de/event/buergerdialog-mehren-5/
END:VEVENT
BEGIN:VEVENT
DTSTART;TZID=Europe/Berlin:20261107T100000
DTEND;TZID=Europe/Berlin:20261107T140000
DTSTAMP:20260424T113446
CREATED:20260414T152121Z
LAST-MODIFIED:20260414T152121Z
UID:1737-1794045600-1794060000@afd-fraktionen-ak.de
SUMMARY:Infostand Betzdorf
DESCRIPTION:nähere Infos folgen …
URL:https://afd-fraktionen-ak.de/event/infostand-betzdorf-2/
END:VEVENT
BEGIN:VEVENT
DTSTART;TZID=Europe/Berlin:20261108T100000
DTEND;TZID=Europe/Berlin:20261108T140000
DTSTAMP:20260424T113446
CREATED:20260126T130531Z
LAST-MODIFIED:20260414T151403Z
UID:1525-1794132000-1794146400@afd-fraktionen-ak.de
SUMMARY:Frühschoppen
DESCRIPTION:nähere Infos folgen …
URL:https://afd-fraktionen-ak.de/event/fruehschoppen-6/
LOCATION:Westerwälder Hof\, Liebergstr. 4\, Gebhardshain\, Rheinland-Pfalz\, 57580\, Germany
END:VEVENT
BEGIN:VEVENT
DTSTART;TZID=Europe/Berlin:20261205T100000
DTEND;TZID=Europe/Berlin:20261205T140000
DTSTAMP:20260424T113446
CREATED:20260414T152157Z
LAST-MODIFIED:20260414T152157Z
UID:1739-1796464800-1796479200@afd-fraktionen-ak.de
SUMMARY:Infostand Gebhardshain
DESCRIPTION:nähere Infos folgen …
URL:https://afd-fraktionen-ak.de/event/infostand-gebhardshain-2/
END:VEVENT
BEGIN:VEVENT
DTSTART;TZID=Europe/Berlin:20261205T170000
DTEND;TZID=Europe/Berlin:20261205T233000
DTSTAMP:20260424T113446
CREATED:20260126T125246Z
LAST-MODIFIED:20260414T151304Z
UID:1510-1796490000-1796513400@afd-fraktionen-ak.de
SUMMARY:Weihnachtsfeier
DESCRIPTION:nähere Infos folgen …
URL:https://afd-fraktionen-ak.de/event/weihnachtsfeier/
LOCATION:Landhaus Mehren\, Auf dem Brouch 1\, Mehren\, Rheinland-Pfalz\, 57635\, Deutschland
END:VEVENT
END:VCALENDAR